BEGIN:VCALENDAR
PRODID:-//Microsoft Corporation//Outlook MIMEDIR//EN
VERSION:2.0
METHOD:PUBLISH
BEGIN:VEVENT
DTSTART:20260430T170000
DTEND:20260430T180000
DESCRIPTION:State of the City
LOCATION:Westdrift Hotel 1400 Parkview Ave Manhattan Beach, CA 90266
SUMMARY:City Council Adjourned Regular Meeting
CATEGORIES:MEETING
END:VEVENT
END:VCALENDAR
